BEGIN:VCALENDAR
PRODID:-//eluceo/ical//2.0/EN
VERSION:2.0
CALSCALE:GREGORIAN
BEGIN:VEVENT
UID:f580ded9d057aed6cca45a66aa471dc1
DTSTAMP:20260420T061814Z
SUMMARY:Untersuchungsausschuss 8/1
DESCRIPTION:
DTSTART;TZID=Europe/Berlin:20261208T100000
DTEND;TZID=Europe/Berlin:20261208T160000
LOCATION:
END:VEVENT
END:VCALENDAR
