BEGIN:VCALENDAR
PRODID:-//eluceo/ical//2.0/EN
VERSION:2.0
CALSCALE:GREGORIAN
BEGIN:VEVENT
UID:98d78dc2dfc99914c61507ed085a7ca5
DTSTAMP:20260419T130523Z
SUMMARY:Ausschuss für Wirtschaft\, Landwirtschaft und Ländlichen Raum
DESCRIPTION:
DTSTART;TZID=Europe/Berlin:20261120T090000
DTEND;TZID=Europe/Berlin:20261120T120000
LOCATION:
END:VEVENT
END:VCALENDAR
