BEGIN:VCALENDAR
PRODID:-//eluceo/ical//2.0/EN
VERSION:2.0
CALSCALE:GREGORIAN
BEGIN:VEVENT
UID:c2d587e04f887cef4fbd42f83ca9c522
DTSTAMP:20260419T184611Z
SUMMARY:Ausschuss für Wirtschaft\, Landwirtschaft und Ländlichen Raum
DESCRIPTION:
DTSTART;TZID=Europe/Berlin:20260904T090000
DTEND;TZID=Europe/Berlin:20260904T120000
LOCATION:
END:VEVENT
END:VCALENDAR
