BEGIN:VCALENDAR
PRODID:-//eluceo/ical//2.0/EN
VERSION:2.0
CALSCALE:GREGORIAN
BEGIN:VEVENT
UID:8a7339b41fcd6b3e89c2dc7b77645882
DTSTAMP:20260420T100607Z
SUMMARY:Untersuchungsausschuss 8/1
DESCRIPTION:
DTSTART;TZID=Europe/Berlin:20260818T100000
DTEND;TZID=Europe/Berlin:20260818T160000
LOCATION:
END:VEVENT
END:VCALENDAR
