BEGIN:VCALENDAR
PRODID:-//eluceo/ical//2.0/EN
VERSION:2.0
CALSCALE:GREGORIAN
BEGIN:VEVENT
UID:48005178aab490b57d14650d647ca20d
DTSTAMP:20260422T101233Z
SUMMARY:Untersuchungsausschuss 8/1
DESCRIPTION:
DTSTART;TZID=Europe/Berlin:20260630T100000
DTEND;TZID=Europe/Berlin:20260630T160000
LOCATION:
END:VEVENT
END:VCALENDAR
