BEGIN:VCALENDAR
PRODID:-//eluceo/ical//2.0/EN
VERSION:2.0
CALSCALE:GREGORIAN
BEGIN:VEVENT
UID:3f1d733b4ef222b9fa669a7d437a9ca4
DTSTAMP:20260421T121219Z
SUMMARY:Ausschuss für Wirtschaft\, Landwirtschaft und Ländlichen Raum
DESCRIPTION:
DTSTART;TZID=Europe/Berlin:20260619T090000
DTEND;TZID=Europe/Berlin:20260619T120000
LOCATION:
END:VEVENT
END:VCALENDAR
