BEGIN:VCALENDAR
PRODID:-//eluceo/ical//2.0/EN
VERSION:2.0
CALSCALE:GREGORIAN
BEGIN:VEVENT
UID:daf335665109ecfbfbe8e83791451f43
DTSTAMP:20260419T130514Z
SUMMARY:Ausschuss für Wirtschaft\, Landwirtschaft und Ländlichen Raum
DESCRIPTION:
DTSTART;TZID=Europe/Berlin:20260508T090000
DTEND;TZID=Europe/Berlin:20260508T113000
LOCATION:
END:VEVENT
END:VCALENDAR
