BEGIN:VCALENDAR
PRODID:-//eluceo/ical//2.0/EN
VERSION:2.0
CALSCALE:GREGORIAN
BEGIN:VEVENT
UID:01f3a34e9f6766b6616c1b7c40015b75
DTSTAMP:20260424T115534Z
SUMMARY:Ausschuss für Bildung\, Wissenschaft und Kultur: mündliche Anhör
 ung bez. des Thüringer Kindergartengesetzes
DESCRIPTION:
DTSTART;TZID=Europe/Berlin:20260504T100000
DTEND;TZID=Europe/Berlin:20260504T183000
LOCATION:
END:VEVENT
END:VCALENDAR
