BEGIN:VCALENDAR
PRODID:-//eluceo/ical//2.0/EN
VERSION:2.0
CALSCALE:GREGORIAN
BEGIN:VEVENT
UID:7ae4868fcff9487acdc9c8260f5ebf3a
DTSTAMP:20260423T200657Z
SUMMARY:Ausschuss für Bildung\, Wissenschaft und Kultur
DESCRIPTION:
DTSTART;TZID=Europe/Berlin:20260430T100000
DTEND;TZID=Europe/Berlin:20260430T160000
LOCATION:F 104
END:VEVENT
END:VCALENDAR
