BEGIN:VCALENDAR
PRODID:-//eluceo/ical//2.0/EN
VERSION:2.0
CALSCALE:GREGORIAN
BEGIN:VEVENT
UID:d7e70a1de2149b7f8c12c3a3ce2e827c
DTSTAMP:20260422T160637Z
SUMMARY:Petitionsausschuss (öffentliche Anhörung um 17.00 Uhr)
DESCRIPTION:
DTSTART;TZID=Europe/Berlin:20260423T170000
DTEND;TZID=Europe/Berlin:20260423T193000
LOCATION:
END:VEVENT
END:VCALENDAR
