BEGIN:VCALENDAR
PRODID:-//eluceo/ical//2.0/EN
VERSION:2.0
CALSCALE:GREGORIAN
BEGIN:VEVENT
UID:87790437a0d52f11671ae28fb71ada2b
DTSTAMP:20260419T130606Z
SUMMARY:Ausschuss für Wirtschaft\, Landwirtschaft und Ländlichen Raum
DESCRIPTION:
DTSTART;TZID=Europe/Berlin:20260320T090000
DTEND;TZID=Europe/Berlin:20260320T110000
LOCATION:
END:VEVENT
END:VCALENDAR
