BEGIN:VCALENDAR
PRODID:-//eluceo/ical//2.0/EN
VERSION:2.0
CALSCALE:GREGORIAN
BEGIN:VEVENT
UID:6e1d09e8a21710e3739e3015a3e1860d
DTSTAMP:20260422T100809Z
SUMMARY:Zum Gedenken an Jürgen Fuchs
DESCRIPTION:<p>Am 19. Dezember 2025 wäre Jürgen Fuchs 75 Jahre alt geword
 en. Im Gedenken an den Schriftsteller\, DDR-Dissidenten und Namensgeber de
 r Jürgen-Fuchs-Straße lädt Landtagspräsident Dr. Thadäus König herzl
 ich zu einem Festakt am 16. Dezember 2025 um 18 Uhr in den Plenarsaal des 
 Thüringer Landtags ein.&nbsp\;</p>\nProgramm\n<p>Es redenDr. Thadäus Kö
 nig\, Präsident des Thüringer LandtagsDr. Peter Wurschi\, Thüringer Lan
 desbeauftragter zur Aufarbeitung der SED-Diktatur</p>\n<p>FestredeMarko Ma
 rtin\, Schriftsteller und Publizist</p>\n<p>MusikGerd Krambehr\, Liedermac
 her</p>\n<p>Szenische LesungTheater Gera-Altenburg&nbsp\;</p>\n<p>Anschlie
 ßend findet ein Empfang in der Lobby Plenarsaal statt. Um Anmeldung bis z
 um 9. Dezember 2025 an veranstaltungen(at)thueringer-landtag.de wird gebet
 en.</p>
DTSTART;TZID=Europe/Berlin:20251216T180000
DTEND;TZID=Europe/Berlin:20251216T193000
LOCATION:<p>Thüringer Landtag</p>
END:VEVENT
END:VCALENDAR
