BEGIN:VCALENDAR
PRODID:-//eluceo/ical//2.0/EN
VERSION:2.0
CALSCALE:GREGORIAN
BEGIN:VEVENT
UID:fbc2a26682a582ef2edf383e638a09da
DTSTAMP:20260422T101454Z
SUMMARY:Out of the Box (Führung)
DESCRIPTION:<p>Am Samstag (13. Dezember) führt die Kuratorin Dr. Cornelie 
 Becker-Lamers im Thüringer Landtag durch die Kunstausstellung „Out of t
 he box“. Zu sehen sind 46 Kunstankäufe des Freistaats Thüringen aus de
 m Jahr 2024.&nbsp\;Die Ausstellung kann noch bis 10. Januar 2026 im Thüri
 nger Landtag besucht werden\, außer an Plenartagen. Eine weitere Führung
  mit der Kuratorin der Ausstellung gibt es am 10. Januar 2026 um 11 Uhr.</
 p>\n<p>Zeit: &nbsp\; Samstag\, 13. Dezember 2025\, 11 UhrOrt: &nbsp\;&nbsp
 \; Haupteingang\, Thüringer Landtag\, Jürgen-Fuchs-Straße 1\, Erfurt</p
 >\n<p>Anmeldung bis 12. Dezember unter: besucherdienst(at)thueringer-landt
 ag.de | 0361 / 37 72828.</p>
DTSTART;TZID=Europe/Berlin:20251213T110000
DTEND;TZID=Europe/Berlin:20251213T123000
LOCATION:<p>Treffpunkt: Haupteingang\, Thüringer Landtag\, Jürgen-Fuchs-S
 traße 1\, Erfurt</p>
END:VEVENT
END:VCALENDAR
