BEGIN:VCALENDAR
PRODID:-//eluceo/ical//2.0/EN
VERSION:2.0
CALSCALE:GREGORIAN
BEGIN:VEVENT
UID:57e1e6414589e848ac2d83cbde5f6854
DTSTAMP:20260421T111221Z
SUMMARY:Ausschuss für Umwelt\, Energie\, Naturschutz und Forsten\n\n(auße
 rplanmäßig)
DESCRIPTION:
DTSTART;TZID=Europe/Berlin:20251210T140000
DTEND;TZID=Europe/Berlin:20251210T160000
LOCATION:
END:VEVENT
END:VCALENDAR
