BEGIN:VCALENDAR
PRODID:-//eluceo/ical//2.0/EN
VERSION:2.0
CALSCALE:GREGORIAN
BEGIN:VEVENT
UID:fbbcf465f14dbdb96d6e1966df204d3b
DTSTAMP:20260419T205353Z
SUMMARY:Untersuchungsausschuss 8/1 (außerplanmäßig)
DESCRIPTION:
DTSTART;TZID=Europe/Berlin:20251204T130000
DTEND;TZID=Europe/Berlin:20251204T133000
LOCATION:
END:VEVENT
END:VCALENDAR
