BEGIN:VCALENDAR
PRODID:-//eluceo/ical//2.0/EN
VERSION:2.0
CALSCALE:GREGORIAN
BEGIN:VEVENT
UID:73d21810f0717179b521179ac32636be
DTSTAMP:20260421T104656Z
SUMMARY:Ältestenrat
DESCRIPTION:
DTSTART;TZID=Europe/Berlin:20251125T140000
DTEND;TZID=Europe/Berlin:20251125T163000
LOCATION:
END:VEVENT
END:VCALENDAR
