BEGIN:VCALENDAR
PRODID:-//eluceo/ical//2.0/EN
VERSION:2.0
CALSCALE:GREGORIAN
BEGIN:VEVENT
UID:6a7f5154cb9d1f1ec896c944f37f6d00
DTSTAMP:20260422T014040Z
SUMMARY:Ausschuss für Bildung\, Wissenschaft und Kultur
DESCRIPTION:
DTSTART;TZID=Europe/Berlin:20251029T190000
DTEND;TZID=Europe/Berlin:20251029T193000
LOCATION:
END:VEVENT
END:VCALENDAR
