BEGIN:VCALENDAR
PRODID:-//eluceo/ical//2.0/EN
VERSION:2.0
CALSCALE:GREGORIAN
BEGIN:VEVENT
UID:ad2843e833dd1782c878f07ae67e83ec
DTSTAMP:20260422T035438Z
SUMMARY:Ausschuss für Bildung\, Wissenschaft und Kultur
DESCRIPTION:
DTSTART;TZID=Europe/Berlin:20251028T100000
DTEND;TZID=Europe/Berlin:20251028T140000
LOCATION:
END:VEVENT
END:VCALENDAR
