BEGIN:VCALENDAR
PRODID:-//eluceo/ical//2.0/EN
VERSION:2.0
CALSCALE:GREGORIAN
BEGIN:VEVENT
UID:543d6fc4f08a97966330cb725acb1e5b
DTSTAMP:20260421T104751Z
SUMMARY:Haushalts- und Finanzausschuss (auswärtige Sitzung)
DESCRIPTION:
DTSTART;TZID=Europe/Berlin:20250904T100000
DTEND;TZID=Europe/Berlin:20250904T120000
LOCATION:
END:VEVENT
END:VCALENDAR
