BEGIN:VCALENDAR
PRODID:-//eluceo/ical//2.0/EN
VERSION:2.0
CALSCALE:GREGORIAN
BEGIN:VEVENT
UID:63ac9be2b2829ed92c3bda3e21eee86b
DTSTAMP:20260421T115500Z
SUMMARY:Ausschuss für Inneres\, Kommunales und Landesentwicklung
DESCRIPTION:
DTSTART;TZID=Europe/Berlin:20250828T100000
DTEND;TZID=Europe/Berlin:20250828T120000
LOCATION:
END:VEVENT
END:VCALENDAR
