BEGIN:VCALENDAR
PRODID:-//eluceo/ical//2.0/EN
VERSION:2.0
CALSCALE:GREGORIAN
BEGIN:VEVENT
UID:48f955b7bc6e8f3f3e417d9896a8bede
DTSTAMP:20260419T130327Z
SUMMARY:Ausschuss für Umwelt\, Energie\, Naturschutz und Forsten
DESCRIPTION:
DTSTART;TZID=Europe/Berlin:20250827T140000
DTEND;TZID=Europe/Berlin:20250827T160000
LOCATION:
END:VEVENT
END:VCALENDAR
