BEGIN:VCALENDAR
PRODID:-//eluceo/ical//2.0/EN
VERSION:2.0
CALSCALE:GREGORIAN
BEGIN:VEVENT
UID:d6da07822ed5cc72458d5fcd06d88e48
DTSTAMP:20260423T111409Z
SUMMARY:Strafvollzugskommission
DESCRIPTION:
DTSTART;TZID=Europe/Berlin:20250313T090000
DTEND;TZID=Europe/Berlin:20250313T110000
LOCATION:
END:VEVENT
END:VCALENDAR
