BEGIN:VCALENDAR
PRODID:-//eluceo/ical//2.0/EN
VERSION:2.0
CALSCALE:GREGORIAN
BEGIN:VEVENT
UID:bc2ea943a2f67daa15a7a5fee6351c6e
DTSTAMP:20260420T052931Z
SUMMARY:Ausschuss für Inneres\, Kommunales und Landesentwicklung\n(außerp
 lanmäßige Sitzung)
DESCRIPTION:
DTSTART;TZID=Europe/Berlin:20250307T180000
DTEND;TZID=Europe/Berlin:20250307T183000
LOCATION:
END:VEVENT
END:VCALENDAR
