BEGIN:VCALENDAR
PRODID:-//eluceo/ical//2.0/EN
VERSION:2.0
CALSCALE:GREGORIAN
BEGIN:VEVENT
UID:bcfc3e2bfcfd38fd8c5e09c4a9b83afd
DTSTAMP:20260423T105021Z
SUMMARY:Ausschuss für Europa\, Medien\, Ehrenamt und Sport\n(außerplanmä
 ßige Sitzung)
DESCRIPTION:
DTSTART;TZID=Europe/Berlin:20250307T130000
DTEND;TZID=Europe/Berlin:20250307T133000
LOCATION:
END:VEVENT
END:VCALENDAR
