BEGIN:VCALENDAR
PRODID:-//eluceo/ical//2.0/EN
VERSION:2.0
CALSCALE:GREGORIAN
BEGIN:VEVENT
UID:208f9fae64ed69ed4aecce2409f71fdb
DTSTAMP:20260425T115929Z
SUMMARY:Haushalts- und Finanzausschuss
DESCRIPTION:
DTSTART;TZID=Europe/Berlin:20250227T100000
DTEND;TZID=Europe/Berlin:20250227T120000
LOCATION:
END:VEVENT
END:VCALENDAR
