BEGIN:VCALENDAR
PRODID:-//eluceo/ical//2.0/EN
VERSION:2.0
CALSCALE:GREGORIAN
BEGIN:VEVENT
UID:f83d43678295c74509b2221f8817b821
DTSTAMP:20260425T154831Z
SUMMARY:Plenarsitzung
DESCRIPTION:
DTSTART;TZID=Europe/Berlin:20250130T090000
DTEND;TZID=Europe/Berlin:20250130T190000
LOCATION:
END:VEVENT
END:VCALENDAR
