BEGIN:VCALENDAR
PRODID:-//eluceo/ical//2.0/EN
VERSION:2.0
CALSCALE:GREGORIAN
BEGIN:VEVENT
UID:e9480cf0bea613b3893e5360c9980d83
DTSTAMP:20260423T161856Z
SUMMARY:Ausschuss für Europa\, Medien\, Ehrenamt und Sport
DESCRIPTION:
DTSTART;TZID=Europe/Berlin:20250124T130000
DTEND;TZID=Europe/Berlin:20250124T150000
LOCATION:
END:VEVENT
END:VCALENDAR
